Package: netprioR Version: 1.35.0 Command: rm -rf netprioR.buildbin-libdir && mkdir netprioR.buildbin-libdir && /Users/biocbuild/BBS/utils/build-universal.sh netprioR_1.35.0.tar.gz /Library/Frameworks/R.framework/Resources/bin/R netprioR.buildbin-libdir StartedAt: 2025-10-24 23:12:25 -0400 (Fri, 24 Oct 2025) EndedAt: 2025-10-24 23:12:29 -0400 (Fri, 24 Oct 2025) EllapsedTime: 4.1 seconds RetCode: 0 Status: OK PackageFile: netprioR_1.35.0.tgz PackageFileSize: 729.8 KiB