Package: nethet Version: 1.41.0 Command: /home/biocbuild/bbs-3.22-bioc/R/bin/R CMD INSTALL nethet StartedAt: 2025-10-24 15:25:33 -0400 (Fri, 24 Oct 2025) EndedAt: 2025-10-24 15:25:47 -0400 (Fri, 24 Oct 2025) EllapsedTime: 14.5 seconds RetCode: 0 Status: OK