Package: nethet Version: 1.42.0 Command: /Library/Frameworks/R.framework/Resources/bin/R CMD INSTALL nethet StartedAt: 2025-11-02 15:24:02 -0500 (Sun, 02 Nov 2025) EndedAt: 2025-11-02 15:24:30 -0500 (Sun, 02 Nov 2025) EllapsedTime: 27.9 seconds RetCode: 0 Status: OK