Package: nethet Version: 1.42.0 Command: /Library/Frameworks/R.framework/Resources/bin/R CMD build --keep-empty-dirs --no-resave-data nethet StartedAt: 2025-11-02 18:04:12 -0500 (Sun, 02 Nov 2025) EndedAt: 2025-11-02 18:08:10 -0500 (Sun, 02 Nov 2025) EllapsedTime: 238.4 seconds RetCode: 0 Status: OK PackageFile: nethet_1.42.0.tar.gz PackageFileSize: 703.9 KiB