Package: nethet Version: 1.41.0 Command: /Library/Frameworks/R.framework/Resources/bin/R CMD INSTALL nethet StartedAt: 2025-10-24 15:13:05 -0400 (Fri, 24 Oct 2025) EndedAt: 2025-10-24 15:13:12 -0400 (Fri, 24 Oct 2025) EllapsedTime: 6.3 seconds RetCode: 0 Status: OK