Package: nethet Version: 1.42.0 Maintainer: Nicolas Staedler MaintainerEmail: staedler.n at gmail.com git_url: https://git.bioconductor.org/packages/nethet git_branch: RELEASE_3_22 git_last_commit: bc1b9c9 git_last_commit_date: 2025-10-29 10:23:13 -0500 (Wed, 29 Oct 2025)