Package: netboost Version: 2.17.0 Command: /home/biocbuild/R/R/bin/R CMD INSTALL netboost StartedAt: 2025-10-23 21:10:03 -0000 (Thu, 23 Oct 2025) EndedAt: 2025-10-23 21:11:06 -0000 (Thu, 23 Oct 2025) EllapsedTime: 63.5 seconds RetCode: 0 Status: OK