Package: netboost Version: 2.17.0 Command: /home/biocbuild/R/R/bin/R CMD build --keep-empty-dirs --no-resave-data netboost StartedAt: 2025-10-21 01:41:37 -0000 (Tue, 21 Oct 2025) EndedAt: 2025-10-21 01:42:54 -0000 (Tue, 21 Oct 2025) EllapsedTime: 77.0 seconds RetCode: 1 Status: ERROR PackageFile: None PackageFileSize: NA