Package: netboost Version: 2.17.0 Command: /home/biocbuild/bbs-3.22-bioc/R/bin/R CMD INSTALL netboost StartedAt: 2025-10-24 15:56:41 -0400 (Fri, 24 Oct 2025) EndedAt: 2025-10-24 15:57:28 -0400 (Fri, 24 Oct 2025) EllapsedTime: 47.3 seconds RetCode: 0 Status: OK