Package: netboost Version: 2.17.0 Command: /home/biocbuild/bbs-3.22-bioc/R/bin/R CMD check --install=check:netboost.install-out.txt --library=/home/biocbuild/bbs-3.22-bioc/R/site-library --timings netboost_2.17.0.tar.gz StartedAt: 2025-10-25 02:10:07 -0400 (Sat, 25 Oct 2025) EndedAt: 2025-10-25 02:13:16 -0400 (Sat, 25 Oct 2025) EllapsedTime: 189.2 seconds RetCode: 0 Status: WARNINGS CheckDir: netboost.Rcheck Warnings: 1