Package: netboost Version: 2.17.0 Command: /home/biocbuild/bbs-3.22-bioc/R/bin/R CMD build --keep-empty-dirs --no-resave-data --md5 netboost StartedAt: 2025-10-24 19:09:42 -0400 (Fri, 24 Oct 2025) EndedAt: 2025-10-24 19:10:39 -0400 (Fri, 24 Oct 2025) EllapsedTime: 57.1 seconds RetCode: 0 Status: OK PackageFile: netboost_2.17.0.tar.gz PackageFileSize: 1.142 MiB