Package: netboost Version: 2.17.0 Command: /Library/Frameworks/R.framework/Resources/bin/R CMD INSTALL netboost StartedAt: 2025-10-24 15:47:42 -0400 (Fri, 24 Oct 2025) EndedAt: 2025-10-24 15:48:59 -0400 (Fri, 24 Oct 2025) EllapsedTime: 77.2 seconds RetCode: 0 Status: OK