Package: netboost Version: 2.17.0 Command: /Library/Frameworks/R.framework/Resources/bin/R CMD build --keep-empty-dirs --no-resave-data netboost StartedAt: 2025-10-24 18:02:33 -0400 (Fri, 24 Oct 2025) EndedAt: 2025-10-24 18:03:55 -0400 (Fri, 24 Oct 2025) EllapsedTime: 82.0 seconds RetCode: 0 Status: OK PackageFile: netboost_2.17.0.tar.gz PackageFileSize: 1.133 MiB