Package: netboost Version: 2.18.0 Command: /Library/Frameworks/R.framework/Resources/bin/R CMD check --install=check:netboost.install-out.txt --library=/Library/Frameworks/R.framework/Resources/library --no-vignettes --timings netboost_2.18.0.tar.gz StartedAt: 2025-10-31 21:06:50 -0400 (Fri, 31 Oct 2025) EndedAt: 2025-10-31 21:08:04 -0400 (Fri, 31 Oct 2025) EllapsedTime: 73.9 seconds RetCode: 0 Status: WARNINGS CheckDir: netboost.Rcheck Warnings: 1