Package: netboost Version: 2.17.0 Command: /Library/Frameworks/R.framework/Resources/bin/R CMD build --keep-empty-dirs --no-resave-data netboost StartedAt: 2025-10-26 17:22:59 -0400 (Sun, 26 Oct 2025) EndedAt: 2025-10-26 17:23:20 -0400 (Sun, 26 Oct 2025) EllapsedTime: 21.2 seconds RetCode: 0 Status: OK PackageFile: netboost_2.17.0.tar.gz PackageFileSize: 1.133 MiB