Package: netZooR Version: 1.13.23 Command: /Library/Frameworks/R.framework/Resources/bin/R CMD INSTALL netZooR StartedAt: 2025-10-27 15:55:37 -0400 (Mon, 27 Oct 2025) EndedAt: 2025-10-27 15:55:37 -0400 (Mon, 27 Oct 2025) EllapsedTime: 0.3 seconds RetCode: 1 Status: ERROR