Package: netZooR Version: 1.13.23 Command: /Library/Frameworks/R.framework/Resources/bin/R CMD build --keep-empty-dirs --no-resave-data netZooR StartedAt: 2025-10-24 18:03:06 -0400 (Fri, 24 Oct 2025) EndedAt: 2025-10-24 18:03:10 -0400 (Fri, 24 Oct 2025) EllapsedTime: 3.4 seconds RetCode: 1 Status: ERROR PackageFile: None PackageFileSize: NA