Package: netZooR Version: 1.13.19 Command: rm -rf netZooR.buildbin-libdir && mkdir netZooR.buildbin-libdir && /Users/biocbuild/BBS/utils/build-universal.sh netZooR_1.13.19.tar.gz /Library/Frameworks/R.framework/Resources/bin/R netZooR.buildbin-libdir StartedAt: 2025-08-18 01:13:19 -0400 (Mon, 18 Aug 2025) EndedAt: 2025-08-18 01:14:49 -0400 (Mon, 18 Aug 2025) EllapsedTime: 90.0 seconds RetCode: 0 Status: OK PackageFile: netZooR_1.13.19.tgz PackageFileSize: 6.726 MiB