Package: netZooR Version: 1.13.23 Command: /Library/Frameworks/R.framework/Resources/bin/R CMD build --keep-empty-dirs --no-resave-data netZooR StartedAt: 2025-10-26 17:23:32 -0400 (Sun, 26 Oct 2025) EndedAt: 2025-10-26 17:23:33 -0400 (Sun, 26 Oct 2025) EllapsedTime: 1.0 seconds RetCode: 1 Status: ERROR PackageFile: None PackageFileSize: NA