Package: netSmooth Version: 1.29.0 Command: /home/biocbuild/bbs-3.22-bioc/R/bin/R CMD INSTALL netSmooth StartedAt: 2025-10-24 16:07:23 -0400 (Fri, 24 Oct 2025) EndedAt: 2025-10-24 16:08:08 -0400 (Fri, 24 Oct 2025) EllapsedTime: 45.5 seconds RetCode: 0 Status: OK