Package: netSmooth Version: 1.29.0 Command: /home/biocbuild/bbs-3.22-bioc/R/bin/R CMD check --install=check:netSmooth.install-out.txt --library=/home/biocbuild/bbs-3.22-bioc/R/site-library --timings netSmooth_1.29.0.tar.gz StartedAt: 2025-10-25 02:11:05 -0400 (Sat, 25 Oct 2025) EndedAt: 2025-10-25 02:18:22 -0400 (Sat, 25 Oct 2025) EllapsedTime: 437.4 seconds RetCode: 0 Status: OK CheckDir: netSmooth.Rcheck Warnings: 0