Package: netSmooth Version: 1.29.0 Command: /Library/Frameworks/R.framework/Resources/bin/R CMD build --keep-empty-dirs --no-resave-data netSmooth StartedAt: 2025-10-24 18:03:05 -0400 (Fri, 24 Oct 2025) EndedAt: 2025-10-24 18:05:10 -0400 (Fri, 24 Oct 2025) EllapsedTime: 125.4 seconds RetCode: 0 Status: OK PackageFile: netSmooth_1.29.0.tar.gz PackageFileSize: 3.069 MiB