Package: netSmooth Version: 1.29.0 Command: /Library/Frameworks/R.framework/Resources/bin/R CMD build --keep-empty-dirs --no-resave-data netSmooth StartedAt: 2025-10-24 17:13:35 -0400 (Fri, 24 Oct 2025) EndedAt: 2025-10-24 17:14:21 -0400 (Fri, 24 Oct 2025) EllapsedTime: 45.5 seconds RetCode: 0 Status: OK PackageFile: netSmooth_1.29.0.tar.gz PackageFileSize: 3.071 MiB