Package: ndexr Version: 1.31.0 Command: /home/biocbuild/bbs-3.22-bioc/R/bin/R CMD check --install=check:ndexr.install-out.txt --library=/home/biocbuild/bbs-3.22-bioc/R/site-library --timings ndexr_1.31.0.tar.gz StartedAt: 2025-10-25 02:09:08 -0400 (Sat, 25 Oct 2025) EndedAt: 2025-10-25 02:10:11 -0400 (Sat, 25 Oct 2025) EllapsedTime: 62.1 seconds RetCode: 0 Status: OK CheckDir: ndexr.Rcheck Warnings: 0