Package: ndexr Version: 1.31.0 Command: /Library/Frameworks/R.framework/Resources/bin/R CMD build --keep-empty-dirs --no-resave-data ndexr StartedAt: 2025-10-24 18:02:17 -0400 (Fri, 24 Oct 2025) EndedAt: 2025-10-24 18:02:35 -0400 (Fri, 24 Oct 2025) EllapsedTime: 18.3 seconds RetCode: 0 Status: OK PackageFile: ndexr_1.31.0.tar.gz PackageFileSize: 946.4 KiB