Package: ndexr Version: 1.31.0 Command: rm -rf ndexr.buildbin-libdir && mkdir ndexr.buildbin-libdir && /Users/biocbuild/BBS/utils/build-universal.sh ndexr_1.31.0.tar.gz /Library/Frameworks/R.framework/Resources/bin/R ndexr.buildbin-libdir StartedAt: 2025-10-25 01:52:57 -0400 (Sat, 25 Oct 2025) EndedAt: 2025-10-25 01:53:04 -0400 (Sat, 25 Oct 2025) EllapsedTime: 6.9 seconds RetCode: 0 Status: OK PackageFile: ndexr_1.31.0.tgz PackageFileSize: 617.8 KiB