Package: ncdfFlow Version: 2.55.0 Command: /home/biocbuild/bbs-3.22-bioc/R/bin/R CMD INSTALL ncdfFlow StartedAt: 2025-10-27 15:15:59 -0400 (Mon, 27 Oct 2025) EndedAt: 2025-10-27 15:16:14 -0400 (Mon, 27 Oct 2025) EllapsedTime: 15.2 seconds RetCode: 0 Status: OK