Package: ncdfFlow Version: 2.55.0 Command: /home/biocbuild/bbs-3.22-bioc/R/bin/R CMD check --install=check:ncdfFlow.install-out.txt --library=/home/biocbuild/bbs-3.22-bioc/R/site-library --timings ncdfFlow_2.55.0.tar.gz StartedAt: 2025-10-25 02:07:32 -0400 (Sat, 25 Oct 2025) EndedAt: 2025-10-25 02:09:08 -0400 (Sat, 25 Oct 2025) EllapsedTime: 96.0 seconds RetCode: 0 Status: WARNINGS CheckDir: ncdfFlow.Rcheck Warnings: 3