Package: ncdfFlow Version: 2.55.0 Command: /Library/Frameworks/R.framework/Resources/bin/R CMD build --keep-empty-dirs --no-resave-data ncdfFlow StartedAt: 2025-10-27 17:55:26 -0400 (Mon, 27 Oct 2025) EndedAt: 2025-10-27 17:56:02 -0400 (Mon, 27 Oct 2025) EllapsedTime: 36.7 seconds RetCode: 0 Status: OK PackageFile: ncdfFlow_2.55.0.tar.gz PackageFileSize: 197.7 KiB