Package: ncdfFlow Version: 2.55.0 Command: rm -rf ncdfFlow.buildbin-libdir && mkdir ncdfFlow.buildbin-libdir && /Users/biocbuild/BBS/utils/build-universal.sh ncdfFlow_2.55.0.tar.gz /Library/Frameworks/R.framework/Resources/bin/R ncdfFlow.buildbin-libdir StartedAt: 2025-10-25 01:52:52 -0400 (Sat, 25 Oct 2025) EndedAt: 2025-10-25 01:53:15 -0400 (Sat, 25 Oct 2025) EllapsedTime: 23.1 seconds RetCode: 0 Status: OK PackageFile: ncdfFlow_2.55.0.tgz PackageFileSize: 2.035 MiB