Package: ncRNAtools Version: 1.19.0 Command: /home/biocbuild/bbs-3.22-bioc/R/bin/R CMD INSTALL ncRNAtools StartedAt: 2025-10-24 15:33:39 -0400 (Fri, 24 Oct 2025) EndedAt: 2025-10-24 15:33:51 -0400 (Fri, 24 Oct 2025) EllapsedTime: 12.3 seconds RetCode: 0 Status: OK