Package: ncRNAtools Version: 1.20.0 Command: /home/biocbuild/bbs-3.22-bioc/R/bin/R CMD check --install=check:ncRNAtools.install-out.txt --library=/home/biocbuild/bbs-3.22-bioc/R/site-library --timings ncRNAtools_1.20.0.tar.gz StartedAt: 2025-10-31 02:03:12 -0400 (Fri, 31 Oct 2025) EndedAt: 2025-10-31 02:05:58 -0400 (Fri, 31 Oct 2025) EllapsedTime: 166.2 seconds RetCode: 0 Status: OK CheckDir: ncRNAtools.Rcheck Warnings: 0