Package: ncRNAtools Version: 1.19.0 Command: /Library/Frameworks/R.framework/Resources/bin/R CMD build --keep-empty-dirs --no-resave-data ncRNAtools StartedAt: 2025-10-24 18:02:10 -0400 (Fri, 24 Oct 2025) EndedAt: 2025-10-24 18:03:12 -0400 (Fri, 24 Oct 2025) EllapsedTime: 61.6 seconds RetCode: 0 Status: OK PackageFile: ncRNAtools_1.19.0.tar.gz PackageFileSize: 316.3 KiB