Package: ncGTW Version: 1.24.0 Command: /home/biocbuild/bbs-3.22-bioc/R/bin/R CMD INSTALL ncGTW StartedAt: 2025-11-25 16:08:36 -0500 (Tue, 25 Nov 2025) EndedAt: 2025-11-25 16:09:40 -0500 (Tue, 25 Nov 2025) EllapsedTime: 64.0 seconds RetCode: 0 Status: OK