Package: mzR Version: 2.44.0 Command: /home/biocbuild/bbs-3.22-bioc/R/bin/R CMD check --install=check:mzR.install-out.txt --library=/home/biocbuild/bbs-3.22-bioc/R/site-library --timings mzR_2.44.0.tar.gz StartedAt: 2025-11-15 02:20:17 -0500 (Sat, 15 Nov 2025) EndedAt: 2025-11-15 02:21:40 -0500 (Sat, 15 Nov 2025) EllapsedTime: 83.1 seconds RetCode: 0 Status: WARNINGS CheckDir: mzR.Rcheck Warnings: 2