Package: mzR Version: 2.43.3 Command: /home/biocbuild/bbs-3.22-bioc/R/bin/R CMD build --keep-empty-dirs --no-resave-data --md5 mzR StartedAt: 2025-10-24 19:07:15 -0400 (Fri, 24 Oct 2025) EndedAt: 2025-10-24 19:15:47 -0400 (Fri, 24 Oct 2025) EllapsedTime: 512.5 seconds RetCode: 0 Status: OK PackageFile: mzR_2.43.3.tar.gz PackageFileSize: 7.529 MiB