Package: mzR Version: 2.44.0 Command: /Library/Frameworks/R.framework/Resources/bin/R CMD INSTALL mzR StartedAt: 2025-10-31 15:24:28 -0400 (Fri, 31 Oct 2025) EndedAt: 2025-10-31 15:33:26 -0400 (Fri, 31 Oct 2025) EllapsedTime: 537.9 seconds RetCode: 0 Status: OK