Package: mzR Version: 2.44.0 Command: /Library/Frameworks/R.framework/Resources/bin/R CMD build --keep-empty-dirs --no-resave-data mzR StartedAt: 2025-10-31 18:03:48 -0400 (Fri, 31 Oct 2025) EndedAt: 2025-10-31 18:13:39 -0400 (Fri, 31 Oct 2025) EllapsedTime: 590.2 seconds RetCode: 0 Status: OK PackageFile: mzR_2.44.0.tar.gz PackageFileSize: 7.353 MiB