Package: mzR Version: 2.43.3 Command: /Library/Frameworks/R.framework/Resources/bin/R CMD INSTALL mzR StartedAt: 2025-10-24 15:10:26 -0400 (Fri, 24 Oct 2025) EndedAt: 2025-10-24 15:12:44 -0400 (Fri, 24 Oct 2025) EllapsedTime: 138.6 seconds RetCode: 0 Status: OK