Package: mzR Version: 2.43.3 Command: /Library/Frameworks/R.framework/Resources/bin/R CMD build --keep-empty-dirs --no-resave-data mzR StartedAt: 2025-10-24 17:12:04 -0400 (Fri, 24 Oct 2025) EndedAt: 2025-10-24 17:14:39 -0400 (Fri, 24 Oct 2025) EllapsedTime: 154.8 seconds RetCode: 0 Status: OK PackageFile: mzR_2.43.3.tar.gz PackageFileSize: 7.354 MiB