Package: myvariant Version: 1.39.1 Command: /home/biocbuild/bbs-3.22-bioc/R/bin/R CMD INSTALL myvariant StartedAt: 2025-10-24 15:52:05 -0400 (Fri, 24 Oct 2025) EndedAt: 2025-10-24 15:52:46 -0400 (Fri, 24 Oct 2025) EllapsedTime: 40.8 seconds RetCode: 0 Status: OK