Package: myvariant Version: 1.39.1 Command: /Library/Frameworks/R.framework/Resources/bin/R CMD INSTALL myvariant StartedAt: 2025-10-24 15:24:02 -0400 (Fri, 24 Oct 2025) EndedAt: 2025-10-24 15:24:20 -0400 (Fri, 24 Oct 2025) EllapsedTime: 18.0 seconds RetCode: 0 Status: OK