Package: myvariant Version: 1.39.1 Command: /Library/Frameworks/R.framework/Resources/bin/R CMD build --keep-empty-dirs --no-resave-data myvariant StartedAt: 2025-10-24 17:11:55 -0400 (Fri, 24 Oct 2025) EndedAt: 2025-10-24 17:12:23 -0400 (Fri, 24 Oct 2025) EllapsedTime: 28.3 seconds RetCode: 1 Status: ERROR PackageFile: None PackageFileSize: NA