Package: myvariant Version: 1.39.1 Command: rm -rf myvariant.buildbin-libdir && mkdir myvariant.buildbin-libdir && /Users/biocbuild/BBS/utils/build-universal.sh myvariant_1.39.1.tar.gz /Library/Frameworks/R.framework/Resources/bin/R myvariant.buildbin-libdir StartedAt: 2025-10-23 23:18:59 -0400 (Thu, 23 Oct 2025) EndedAt: 2025-10-23 23:19:19 -0400 (Thu, 23 Oct 2025) EllapsedTime: 19.3 seconds RetCode: 0 Status: OK PackageFile: myvariant_1.39.1.tgz PackageFileSize: 218.6 KiB