Package: mutscan Version: 1.0.0 Command: /home/biocbuild/bbs-3.22-bioc/R/bin/R CMD INSTALL mutscan StartedAt: 2025-11-17 17:47:32 -0500 (Mon, 17 Nov 2025) EndedAt: 2025-11-17 17:48:34 -0500 (Mon, 17 Nov 2025) EllapsedTime: 61.8 seconds RetCode: 0 Status: OK