Package: mutscan Version: 1.0.0 Command: /home/biocbuild/bbs-3.22-bioc/R/bin/R CMD build --keep-empty-dirs --no-resave-data --md5 mutscan StartedAt: 2025-11-17 22:22:11 -0500 (Mon, 17 Nov 2025) EndedAt: 2025-11-17 22:23:40 -0500 (Mon, 17 Nov 2025) EllapsedTime: 89.1 seconds RetCode: 0 Status: OK PackageFile: mutscan_1.0.0.tar.gz PackageFileSize: 3.542 MiB