Package: multtest Version: 2.65.0 Command: /home/biocbuild/bbs-3.22-bioc/R/bin/R CMD INSTALL multtest StartedAt: 2025-10-24 15:22:35 -0400 (Fri, 24 Oct 2025) EndedAt: 2025-10-24 15:22:47 -0400 (Fri, 24 Oct 2025) EllapsedTime: 11.6 seconds RetCode: 0 Status: OK