Package: multtest Version: 2.65.0 Command: /home/biocbuild/bbs-3.22-bioc/R/bin/R CMD build --keep-empty-dirs --no-resave-data --md5 multtest StartedAt: 2025-10-24 19:05:51 -0400 (Fri, 24 Oct 2025) EndedAt: 2025-10-24 19:05:53 -0400 (Fri, 24 Oct 2025) EllapsedTime: 2.0 seconds RetCode: 0 Status: OK PackageFile: multtest_2.65.0.tar.gz PackageFileSize: 1.236 MiB