Package: multtest Version: 2.65.0 Command: rm -rf multtest.buildbin-libdir && mkdir multtest.buildbin-libdir && /Users/biocbuild/BBS/utils/build-universal.sh multtest_2.65.0.tar.gz /Library/Frameworks/R.framework/Resources/bin/R multtest.buildbin-libdir StartedAt: 2025-10-26 22:42:33 -0400 (Sun, 26 Oct 2025) EndedAt: 2025-10-26 22:42:39 -0400 (Sun, 26 Oct 2025) EllapsedTime: 6.1 seconds RetCode: 0 Status: OK PackageFile: multtest_2.65.0.tgz PackageFileSize: 833.5 KiB