Package: multistateQTL Version: 2.1.2 Command: /home/biocbuild/bbs-3.22-bioc/R/bin/R CMD INSTALL multistateQTL StartedAt: 2025-10-24 15:42:58 -0400 (Fri, 24 Oct 2025) EndedAt: 2025-10-24 15:43:25 -0400 (Fri, 24 Oct 2025) EllapsedTime: 26.8 seconds RetCode: 0 Status: OK